BEGIN:VCALENDAR
VERSION:2.0
PRODID:-//ChamberMaster//Event Calendar 2.0//EN
METHOD:PUBLISH
X-PUBLISHED-TTL:P1H
REFRESH-INTERVAL:P1H
CALSCALE:GREGORIAN
BEGIN:VTIMEZONE
TZID:America/Los_Angeles
BEGIN:DAYLIGHT
RRULE:FREQ=YEARLY;BYMONTH=3;BYDAY=2SU
DTSTART:20070101T000000
TZOFFSETFROM:-0800
TZOFFSETTO:-0700
TZNAME:Pacific Daylight Time
END:DAYLIGHT
BEGIN:STANDARD
RRULE:FREQ=YEARLY;BYMONTH=11;BYDAY=1SU
DTSTART:20070101T000000
TZOFFSETFROM:-0700
TZOFFSETTO:-0800
TZNAME:Pacific Standard Time
END:STANDARD
END:VTIMEZONE
BEGIN:VEVENT
DTSTART;TZID=America/Los_Angeles:20260507T110000
DTEND;TZID=America/Los_Angeles:20260507T120000
X-MICROSOFT-CDO-ALLDAYEVENT:FALSE
SUMMARY:Zoom Into Success: Is SEO Dead?!
DESCRIPTION:Engage\, Connect\, and Grow with Zoom Into Success\, a tailored business development series crafted for small businesses. This virtual event places a spotlight on vital pillars: Business Finance\, Marketing\, Employee Retention\, and Business Development.  \nThis Session: \nTopic: Is SEO Dead?! GEO and How to Get Recommended by AI\nPresenter: Randy Costello with PNW Web Designers & Marketing\nWe'll hear from Randy Costello with PNW Web Designers & Marketing about how you can make tangible changes to your website to increase your chance of being served up by AI agents. This is the new frontier of discoverability and it will impact your future reach. Don't be left behind. Learn more about how to optimize your online content for AI today!\n\n *** Recording Notice: This online event will be recorded and posted to websites like Youtube for future viewing. Attendees may elect not to turn on their camera.
X-ALT-DESC;FMTTYPE=text/html:<!DOCTYPE html><html><head><title></title></head><body aria-disabled="false"><div style="box-sizing: border-box\; margin-right: -15px\; margin-left: -15px\;"><div style="box-sizing: border-box\; position: relative\; min-height: 200px\; padding-right: 15px\; padding-left: 15px\; float: left\; width: 1030.99px\; margin-bottom: 0px\;"><div ng-if="true || vm.isReadOnlyScreen" style="box-sizing: border-box\;"><span style="font-size: 18px\; font-family: Verdana\, Geneva\, sans-serif\; color: rgb(0\, 0\, 0)\;">Engage\, Connect\, and Grow with Zoom Into Success\, a tailored business development series crafted for small businesses. This virtual event places a spotlight on vital pillars: Business Finance\, Marketing\, Employee Retention\, and Business Development. &nbsp\;</span></div><div ng-if="true || vm.isReadOnlyScreen" style="box-sizing: border-box\;"><br></div><div ng-if="true || vm.isReadOnlyScreen" style="box-sizing: border-box\;"><span style="font-size: 18px\; font-family: Verdana\, Geneva\, sans-serif\; color: rgb(0\, 0\, 0)\;"><strong fr-original-style="" style="font-weight: 700\;">This Session:&nbsp\;</strong></span></div><div ng-if="true || vm.isReadOnlyScreen" style="box-sizing: border-box\;"><br></div><div ng-if="true || vm.isReadOnlyScreen" style="box-sizing: border-box\;"><span style="font-size: 18px\; font-family: Verdana\, Geneva\, sans-serif\; color: rgb(0\, 0\, 0)\;">Topic: Is SEO Dead?! GEO and How to Get Recommended by AI</span><br><span style="font-size: 18px\; font-family: Verdana\, Geneva\, sans-serif\; color: rgb(0\, 0\, 0)\;">Presenter: Randy Costello with&nbsp\;</span><a fr-original-style="" href="https://www.pnwwebdesigners.com/" rel="noopener noreferrer" style="user-select: auto\;" target="_blank"><span style="font-size: 18px\; font-family: Verdana\, Geneva\, sans-serif\; color: rgb(0\, 0\, 0)\;">PNW Web Designers &amp\; Marketing</span></a></div><div ng-if="true || vm.isReadOnlyScreen" style="box-sizing: border-box\;"><br></div><div ng-if="true || vm.isReadOnlyScreen" style="box-sizing: border-box\;"><span style="font-size: 18px\; font-family: Verdana\, Geneva\, sans-serif\; color: rgb(0\, 0\, 0)\;">We&#39\;ll hear from Randy Costello with PNW Web Designers &amp\; Marketing about how you can make tangible changes to your website to increase your chance of being served up by AI agents. This is the new frontier of discoverability and it will impact your future reach. Don&#39\;t be left behind. Learn more about how to optimize your online content for AI today!</span><br><br><span style="font-size: 18px\; font-family: Verdana\, Geneva\, sans-serif\; color: rgb(0\, 0\, 0)\;">&nbsp\;*** Recording Notice: This online event will be recorded and posted to websites like Youtube for future viewing. Attendees may elect not to turn on their camera.</span></div></div></div></body></html>
LOCATION:Zoom Meeting: https://us06web.zoom.us/j/89634561619
UID:e.2471.1431084
SEQUENCE:3
DTSTAMP:20260420T141813Z
URL:https://business.thechambercollective.com/chamber-events/Details/zoom-into-success-is-seo-dead-1611248?sourceTypeId=Hub
END:VEVENT
END:VCALENDAR
