BEGIN:VCALENDAR
VERSION:2.0
PRODID:-//ChamberMaster//Event Calendar 2.0//EN
METHOD:PUBLISH
X-PUBLISHED-TTL:P1H
REFRESH-INTERVAL:P1H
CALSCALE:GREGORIAN
BEGIN:VTIMEZONE
TZID:America/Los_Angeles
BEGIN:DAYLIGHT
RRULE:FREQ=YEARLY;BYMONTH=3;BYDAY=2SU
DTSTART:20070101T000000
TZOFFSETFROM:-0800
TZOFFSETTO:-0700
TZNAME:Pacific Daylight Time
END:DAYLIGHT
BEGIN:STANDARD
RRULE:FREQ=YEARLY;BYMONTH=11;BYDAY=1SU
DTSTART:20070101T000000
TZOFFSETFROM:-0700
TZOFFSETTO:-0800
TZNAME:Pacific Standard Time
END:STANDARD
END:VTIMEZONE
BEGIN:VEVENT
DTSTART;TZID=America/Los_Angeles:20260516T170000
DTEND;TZID=America/Los_Angeles:20260516T190000
X-MICROSOFT-CDO-ALLDAYEVENT:FALSE
SUMMARY:Ribbon Cutting - Sound Postal Pack & Ship
DESCRIPTION:Celebrate Success with a Ribbon Cutting Ceremony!      Join the Chamber Collective in celebrating Sound Postal Pack & Ship and their new office in Bonney Lake. Their official grand opening is complete with a ribbon cutting ceremony featuring city administrators and Chamber leadership as well as prizes\, raffle items\, food trucks and more! The ribbon cutting ceremony itself will take place around 5:15p-5:30p. Can you make it? C'mon - join us!
X-ALT-DESC;FMTTYPE=text/html:<!DOCTYPE html><html><head><title></title></head><body aria-disabled="false"><p><span style="font-family: Verdana\,Geneva\,sans-serif\;">Celebrate Success with a Ribbon Cutting Ceremony! &nbsp\; &nbsp\; &nbsp\;</span></p><p><span style="font-family: Verdana\,Geneva\,sans-serif\;">Join the Chamber Collective in celebrating <strong fr-original-style="" style="font-weight: 700\;">Sound Postal Pack &amp\; Ship</strong> and their new office in Bonney Lake. Their official grand opening is complete with a ribbon cutting ceremony featuring city administrators and Chamber leadership as well as prizes\, raffle items\, food trucks and more! The ribbon cutting ceremony itself will take place around 5:15p-5:30p. Can you make it? C&#39\;mon - join us!</span></p><p><br></p></body></html>
LOCATION:21197 STATE ROUTE 410 E BONNEY LAKE WA 98391
UID:e.2471.1447397
SEQUENCE:3
DTSTAMP:20260421T034201Z
URL:https://business.thechambercollective.com/chamber-events/Details/ribbon-cutting-sound-postal-pack-ship-1714334?sourceTypeId=Hub
END:VEVENT
END:VCALENDAR
