BEGIN:VCALENDAR
VERSION:2.0
PRODID:-//ChamberMaster//Event Calendar 2.0//EN
METHOD:PUBLISH
X-PUBLISHED-TTL:P1H
REFRESH-INTERVAL:P1H
CALSCALE:GREGORIAN
BEGIN:VTIMEZONE
TZID:America/Los_Angeles
BEGIN:DAYLIGHT
RRULE:FREQ=YEARLY;BYMONTH=3;BYDAY=2SU
DTSTART:20070101T000000
TZOFFSETFROM:-0800
TZOFFSETTO:-0700
TZNAME:Pacific Daylight Time
END:DAYLIGHT
BEGIN:STANDARD
RRULE:FREQ=YEARLY;BYMONTH=11;BYDAY=1SU
DTSTART:20070101T000000
TZOFFSETFROM:-0700
TZOFFSETTO:-0800
TZNAME:Pacific Standard Time
END:STANDARD
END:VTIMEZONE
BEGIN:VEVENT
DTSTART;TZID=America/Los_Angeles:20231006T090000
DTEND;TZID=America/Los_Angeles:20231006T100000
X-MICROSOFT-CDO-ALLDAYEVENT:FALSE
SUMMARY:Coffee Talk @ Tehaleh Morning Networking
DESCRIPTION:Our Morning Networking events are great for meeting other business owners and leaders within the community. Networking works best when we come together and find out what we can promote for each other. As other businesses grow through your referrals\, your business will grow.Come discover how these networking events work for you. Grab a cup of coffee\, meet your neighbors\, and grow your network.Join us for the Coffee Talk Networking @ Tehaleh\; A great opportunity for Bonney Lake and surrounding area businesses to connect and grow.
X-ALT-DESC;FMTTYPE=text/html:<!DOCTYPE html><html><head><title></title></head><body aria-disabled="false"><p>Our Morning Networking events are great for meeting other business owners and leaders within the community. Networking works best when we come together and find out what we can promote for each other. As other businesses grow through your referrals\, your business will grow.</p><p>Come discover how these networking events work for you. Grab a cup of coffee\, meet your neighbors\, and grow your network.</p><p>Join us for the Coffee Talk Networking @ Tehaleh\; A great opportunity for Bonney Lake and surrounding area businesses to connect and grow.</p></body></html>
LOCATION:19001 Cascadia Blvd E Bonney Lake WA 98391
UID:e.2471.868175
SEQUENCE:3
DTSTAMP:20260426T031932Z
URL:https://business.thechambercollective.com/chamber-events/Details/coffee-talk-tehaleh-morning-networking-971170?sourceTypeId=Hub
END:VEVENT
END:VCALENDAR
